BEGIN:VCALENDAR
VERSION:2.0
PRODID:ics.py - http://git.io/lLljaA
BEGIN:VEVENT
DESCRIPTION:Malzeme atölyemiz Madde - 1: Ahşap'ın ikinci ve son dersi de atölye yürütücümüz Mustafa Dede'nin atölyesi Akel Dekorasyon'da gerçekleşti. Atölyede ahşap yapı ve mobilya detaylarını\, uygulamalarını görme imkanı bulduk.
DTEND:20181229T235900Z
LOCATION:Kuzguncuk Mahallesi\, Şehir Hatları Kuzguncuk İskelesi \r\nKuzguncuk Çarşı Caddesi\, Üsküdar/İstanbul
ORGANIZER;CN=Türkiye Tasarım Vakfı:mailto:Türkiye Tasarım Vakfı
DTSTART:20181229T000000Z
SUMMARY:Madde - 1: Ahşap
UID:ae322db4-0f48-476c-9d05-1691c96766c4@ae32.org
END:VEVENT
END:VCALENDAR