BEGIN:VCALENDAR
VERSION:2.0
PRODID:ics.py - http://git.io/lLljaA
BEGIN:VEVENT
DESCRIPTION:🎥 Playground Buluşmaları | Sertifikalar\, Unvanlar & Tasarım Eğitimi\r\nDr. Ayhan Enişçi ve Örsan Berkay Tülüce ile tasarım dünyasında “sertifika”\, “unvan” ve “eğitim” kavramlarının bugünkü karşılığını tartışıyoruz.
DTEND:20251226T235900Z
LOCATION:Kuzguncuk İskelesi
ORGANIZER;CN=Türkiye Tasarım Vakfı:mailto:Türkiye Tasarım Vakfı
DTSTART:20251226T000000Z
SUMMARY:Sertifikalar\, Unvanlar & Tasarım Eğitimi
UID:8a67e78b-71dc-48ea-b0b7-37ceec06e4a3@8a67.org
END:VEVENT
END:VCALENDAR