BEGIN:VCALENDAR
VERSION:2.0
PRODID:ics.py - http://git.io/lLljaA
BEGIN:VEVENT
DESCRIPTION:📍 18.45 Konuşmaları | Tasarımın Görülmeyi Hak Ediyor\r\nÖdüllü çalışmalarıyla tanınan Yılmaz Salman\, tasarım yarışmalarının işleyişini\; başvuru stratejileri\, jüri değerlendirme süreçleri ve üretim pratiğinin yarışma kültürüyle ilişkisi üzerinden aktaracak.
DTEND:20251218T235900Z
LOCATION:Kuzguncuk İskelesi
ORGANIZER;CN=Türkiye Tasarım Vakfı:mailto:Türkiye Tasarım Vakfı
DTSTART:20251218T000000Z
SUMMARY:Tasarımın Görülmeyi Hak Ediyor
UID:ddd909c8-d75b-4c8c-8dbb-38b09e861cd5@ddd9.org
END:VEVENT
END:VCALENDAR