BEGIN:VCALENDAR
VERSION:2.0
PRODID:ics.py - http://git.io/lLljaA
BEGIN:VEVENT
DESCRIPTION:📍 18.45 Konuşmaları | Sizin Yerinizde Olsam\r\nHasbro\, Mattel ve Spin Master gibi global markalarla çalışan Hakan Diniz\, oyun merkezli ürün tasarımının yaratıcı çerçevesini\; konsept geliştirme\, mekanik çözümleme\, prototipleme ve kullanıcı deneyimi üzerinden bizlerle paylaşacak.
DTEND:20251217T235900Z
LOCATION:Kuzguncuk İskelesi
ORGANIZER;CN=Türkiye Tasarım Vakfı:mailto:Türkiye Tasarım Vakfı
DTSTART:20251217T000000Z
SUMMARY:Sizin Yerinizde Olsam
UID:a39db9d0-9963-437c-ac98-cc8a9f9fe968@a39d.org
END:VEVENT
END:VCALENDAR