BEGIN:VCALENDAR
VERSION:2.0
PRODID:ics.py - http://git.io/lLljaA
BEGIN:VEVENT
DESCRIPTION:📍 18.45 Konuşmaları | Bir Fotoğrafçıyı Kullanmak\r\nOrhan Cem Çetin\; profesyonel fotoğrafçılıkta brief alma\, yaratıcı yönlendirme\, çekim planlama ve görsel hikaye kurma süreçlerini\, kitap projelerinden örneklerle bizlere aktaracak.
DTEND:20251211T235900Z
LOCATION:Kuzguncuk İskelesi
ORGANIZER;CN=Türkiye Tasarım Vakfı:mailto:Türkiye Tasarım Vakfı
DTSTART:20251211T000000Z
SUMMARY:Bir Fotoğrafçıyı Kullanmak
UID:16142e3b-ee69-4884-a817-7dea073fb2c6@1614.org
END:VEVENT
END:VCALENDAR