BEGIN:VCALENDAR
VERSION:2.0
PRODID:ics.py - http://git.io/lLljaA
BEGIN:VEVENT
DESCRIPTION:📚 Kütüphane Buluşmaları | Merak Mekanları: Müzeler İçin Mekan Tasarlamak\r\nMüzeler\, yalnızca sergileme alanları değil\; merak uyandıran\, keşfe davet eden ve öğrenmeyi deneyim üzerinden mümkün kılan mekânlardır.
DTEND:20251217T235900Z
LOCATION:Kuzguncuk İskelesi
ORGANIZER;CN=Türkiye Tasarım Vakfı:mailto:Türkiye Tasarım Vakfı
DTSTART:20251217T000000Z
SUMMARY:Merak Mekanları: Müzeler İçin Tasarlamak
UID:1cfcad30-ac78-4a5c-a1fb-49b6917e9fda@1cfc.org
END:VEVENT
END:VCALENDAR