BEGIN:VCALENDAR
VERSION:2.0
PRODID:ics.py - http://git.io/lLljaA
BEGIN:VEVENT
DESCRIPTION:Şehir Konuşmaları | Klasik Dönem Osmanlı Şehirleşmesi Üzerine Bazı Düşünceler\r\n\r\nKonuk: Doç. Dr. Yunus Uğur (Marmara Üniversitesi\, Dijital Beşeri Bilimler Araştırma Merkezi)
DTEND:20251014T235900Z
LOCATION:Kuzguncuk İskelesi
ORGANIZER;CN=Türkiye Tasarım Vakfı:mailto:Türkiye Tasarım Vakfı
DTSTART:20251014T000000Z
SUMMARY:Klasik Dönem Osmanlı Şehirleşmesi Üzerine Bazı Düşünceler
UID:c5a1f058-8ff6-4655-b82e-5a115cb94800@c5a1.org
END:VEVENT
END:VCALENDAR