BEGIN:VCALENDAR
VERSION:2.0
PRODID:ics.py - http://git.io/lLljaA
BEGIN:VEVENT
DESCRIPTION:Malzeme atölyemiz Madde-1’de cam ele alındı. Cam türleri\, özellikleri ve üretimi\, camların çeşitlendirilmesi ve sınıflandırılması\, camın kullanım alanları gibi konular Ahmet Akça ile incelendi.
DTEND:20190427T235900Z
ORGANIZER;CN=Türkiye Tasarım Vakfı:mailto:Türkiye Tasarım Vakfı
DTSTART:20190427T000000Z
SUMMARY:Madde - 1: Cam
UID:58501ea4-2ba9-4ccd-aaea-ae5b0662daab@5850.org
END:VEVENT
END:VCALENDAR