BEGIN:VCALENDAR
VERSION:2.0
PRODID:ics.py - http://git.io/lLljaA
BEGIN:VEVENT
DESCRIPTION:Pablo ile Karmaşık Portreler” atölyesi kapsamında\, katılımcılar Picasso’yu tanımış ve ondan ilham alarak eğlenceli tablolar üretmiştir. Katılımcılar\, boyalarını\, kalem ve kağıtlarını hazırlayarak ekran başında bir araya gelmiş\; eldeki malzemelerle Picasso’nun izinden giderek yaratıcı portreler tasarlamıştır.\r\n\r\nAtölye\, 5–9 yaş arası çocuklara yönelik ve ücretsiz olarak gerçekleştirilmiştir. Etkinlik\, 8 Mayıs 2020 Cuma günü saat 15.00’te çevrim içi olarak düzenlenmiştir.
DTEND:20200508T235900Z
ORGANIZER;CN=Türkiye Tasarım Vakfı:mailto:Türkiye Tasarım Vakfı
DTSTART:20200508T150000Z
SUMMARY:Pablo ile Karmaşık Portreler
UID:de7d815b-efee-4b68-85d5-1f68df7bc8e1@de7d.org
END:VEVENT
END:VCALENDAR