BEGIN:VCALENDAR
VERSION:2.0
PRODID:ics.py - http://git.io/lLljaA
BEGIN:VEVENT
DESCRIPTION:Glass was handled in Material-1 in February. Topics such as flat glass types\, properties and production of flat glass\, diversification and classification of flat glass\, usage areas of flat glass were examined in detail at and Şişecam Head Office with Business Development Manager of Şişecam Flat Glass\, H.Sefa Ertan.
DTEND:20200226T235900Z
ORGANIZER;CN=Turkey Design Council:mailto:Turkey Design Council
DTSTART:20200226T000000Z
SUMMARY:Madde - 1 : Cam
UID:6b36476e-5d06-49e6-b4c7-8678054d5cb0@6b36.org
END:VEVENT
END:VCALENDAR