BEGIN:VCALENDAR
VERSION:2.0
PRODID:ics.py - http://git.io/lLljaA
BEGIN:VEVENT
DESCRIPTION:Dieter Rams\, born in Germany in 1932\, is the product designer of Braun that is electronic home appliance manufacturer. The legendary designer Rams\, who inspired many people with the products he designed\, became one of the most influential people of the "functional design" concept in Germany in the 1950s. We watched and discussed with the documentary about Rams' design culture\, principles and criteria.
DTEND:20191204T235900Z
ORGANIZER;CN=Turkey Design Council:mailto:Turkey Design Council
DTSTART:20191204T000000Z
SUMMARY:Abstract | Dieter Rams
UID:6c4a561b-0f17-486c-a563-f0e7da695cae@6c4a.org
END:VEVENT
END:VCALENDAR