BEGIN:VCALENDAR
VERSION:2.0
PRODID:ics.py - http://git.io/lLljaA
BEGIN:VEVENT
DESCRIPTION:Abstract: The Art of Design\, the documentary series of Netflix that focuses on different areas of art and design\, turns the camera into Jonathan Hoefler in the last part of the second season. According to Hoefler\, who argues that typography is more important than thought\, typography is the dialogue between the letter character designers who created the alphabets and the graphic designers who use them. We watched the episode where 'type designer' Hoefler\, which says that even the letters that seem to be simple in the letter character design appear to be the same size\, are the result of a different balance and selfless work\, and the details about the letter design are explained and we discussed about the episode.
DTEND:20191106T235900Z
ORGANIZER;CN=Turkey Design Council:mailto:Turkey Design Council
DTSTART:20191106T000000Z
SUMMARY:Abstract | Jonathan Hoefler
UID:b7eb097a-5580-4fce-b165-67d1129ccfcd@b7eb.org
END:VEVENT
END:VCALENDAR