BEGIN:VCALENDAR
VERSION:2.0
PRODID:ics.py - http://git.io/lLljaA
BEGIN:VEVENT
DESCRIPTION:Open Studio is a weekly event where the design students and young professionals come together and exchange ideas. In Open Studio\, where design student work on their projects in a productive sharing environment\, a specialist designer accompanies the student every week.
DTEND:20190102T200000Z
LOCATION:Kuzguncuk Mahallesi\, Şehir Hatları Kuzguncuk İskelesi \r\nKuzguncuk Çarşı Caddesi\, Üsküdar/İstanbul
ORGANIZER;CN=Turkey Design Council:mailto:Turkey Design Council
DTSTART:20190102T160000Z
SUMMARY:Açık Stüdyo 02
UID:8767fe27-5195-4ad6-bf83-f07de13d0a91@8767.org
END:VEVENT
END:VCALENDAR