BEGIN:VCALENDAR
VERSION:2.0
PRODID:ics.py - http://git.io/lLljaA
BEGIN:VEVENT
DESCRIPTION:Abstract: The Art of Design\, Netflix's documentary series focusing on different areas of art and design\, focuses on light and installation artist Olafur Eliasson in the first part of the new season. The artist\, who creates thematic photo series using light\, heat\, water and pressure\, exhibits his work in the public spaces of different countries. It produces works that mimic natural events with speculations. Eliasson\, who also works for the Istanbul biennials\, has increased his worldwide recognition with his highly acclaimed project "The Weather Project". We watched the episode of Olafur Eliasson\, which is referred to as the light wizard\, about the design process and speculation issues in İskele together and chatted about the section.
DTEND:20191002T235900Z
ORGANIZER;CN=Turkey Design Council:mailto:Turkey Design Council
DTSTART:20191002T000000Z
SUMMARY:Abstract | Olafur Eliasson
UID:deccc395-9509-439a-ac48-756c9dc72e97@decc.org
END:VEVENT
END:VCALENDAR