BEGIN:VCALENDAR
VERSION:2.0
PRODID:ics.py - http://git.io/lLljaA
BEGIN:VEVENT
DESCRIPTION:Although aromatherapy sounds like a concept that we have started to hear recently\, it is a method that goes back to 6000 years ago. It aims to balance the Spirit-Body-Mind with the fragrant oils obtained from the root\, leaf or core of the plants. Aslı Bilgin\, who founded Homemade Aromatherapy with the intention of maintaining the “Spirit - Body - Mind” balance in 2012 after a fifteen year passion\, education and learning process\, shared with us how she read nature and the process of creating this brand.
DTEND:20190919T235900Z
ORGANIZER;CN=Turkey Design Council:mailto:Turkey Design Council
DTSTART:20190919T000000Z
SUMMARY:Doğanın İçinden Marka Yaratmak
UID:eadf7c67-170a-4da7-9f05-d5b8af38df15@eadf.org
END:VEVENT
END:VCALENDAR