BEGIN:VCALENDAR
VERSION:2.0
PRODID:ics.py - http://git.io/lLljaA
BEGIN:VEVENT
DESCRIPTION:📍 18.45 Konuşmaları | Markalaşmak\r\nBir markanın dili nasıl kurulur\, kimliği nasıl tutarlı hale gelir ve tasarım bu sürecin neresinde durur?
DTEND:20260129T235900Z
LOCATION:Kuzguncuk İskelesi
ORGANIZER;CN=Turkey Design Council:mailto:Turkey Design Council
DTSTART:20260129T000000Z
SUMMARY:Markalaşmak
UID:34ae7c6a-f68a-4882-ab62-49abf783178e@34ae.org
END:VEVENT
END:VCALENDAR