BEGIN:VCALENDAR
VERSION:2.0
PRODID:ics.py - http://git.io/lLljaA
BEGIN:VEVENT
DESCRIPTION:🏙 Şehir Konuşmaları | Kitap ve Hayat\r\nOkuma deneyimi\, zamanla yalnızca metinle kurulan bir ilişki olmaktan çıkar\; gündelik hayatı\, düşünme biçimlerini ve dünyayla temas kurma yollarını da dönüştürür.
DTEND:20260123T235900Z
LOCATION:Kuzguncuk İskelesi
ORGANIZER;CN=Turkey Design Council:mailto:Turkey Design Council
DTSTART:20260123T000000Z
SUMMARY:Kitap ve Hayat
UID:c0b63bb2-af90-433b-904b-f3c3d5e7c27d@c0b6.org
END:VEVENT
END:VCALENDAR