BEGIN:VCALENDAR
VERSION:2.0
PRODID:ics.py - http://git.io/lLljaA
BEGIN:VEVENT
DESCRIPTION:📚 Kütüphane Buluşmaları | Pan Yayıncılık\, 40. Yıl Sohbeti\r\n\r\nMüziği yalnızca duyulan değil\; okunan\, düşünülen ve aktarılan bir kültür olarak ele alan Pan Yayıncılık\, kırk yıllık yayıncılık yolculuğunu Kütüphane Buluşmaları kapsamında bizlerle paylaşıyor.
DTEND:20260120T235900Z
LOCATION:Kuzguncuk İskelesi
ORGANIZER;CN=Turkey Design Council:mailto:Turkey Design Council
DTSTART:20260120T000000Z
SUMMARY:Pan Yayıncılık\, 40. Yıl Sohbeti
UID:1206da21-f2bc-4ffa-9a0d-4d1cc51a136c@1206.org
END:VEVENT
END:VCALENDAR