BEGIN:VCALENDAR
VERSION:2.0
PRODID:ics.py - http://git.io/lLljaA
BEGIN:VEVENT
DESCRIPTION:📍 18.45 Konuşmaları | Fikirden Pazara: Disiplinler Arası Tasarım Yolculuğu\r\nEsra Özfırat\, endüstriyel tasarım pratiğini mutfak ürünlerinden küçük ev aletlerine\, ambalajdan inovasyon projelerine uzanan örneklerle paylaşacak.
DTEND:20251225T235900Z
LOCATION:Kuzguncuk İskelesi
ORGANIZER;CN=Turkey Design Council:mailto:Turkey Design Council
DTSTART:20251225T000000Z
SUMMARY:Fikirden Pazara: Disiplinler Arası Tasarım Yolculuğu
UID:600e03b1-3d0e-49a7-b0e4-49b069e2a165@600e.org
END:VEVENT
END:VCALENDAR