BEGIN:VCALENDAR
VERSION:2.0
PRODID:ics.py - http://git.io/lLljaA
BEGIN:VEVENT
DESCRIPTION:📍 Açık Stüdyo | Doğadan Dijitale Yüzey Tasarımı: Seramik Malzeme Üzerine Deneysel Bir Yaklaşım\r\nDr. Ceyda Sıkı ile gerçekleştirilecek bu atölyede\, katılımcılar dijital ve analog tekniklerle doğadan ilham alan yüzey denemeleri yapacak.
DTEND:20251224T235900Z
LOCATION:Kuzguncuk İskelesi
ORGANIZER;CN=Turkey Design Council:mailto:Turkey Design Council
DTSTART:20251224T000000Z
SUMMARY:Doğadan Dijitale Yüzey Tasarımı
UID:5b7f42d4-1a2d-44f1-a233-1920c0403a71@5b7f.org
END:VEVENT
END:VCALENDAR