BEGIN:VCALENDAR
VERSION:2.0
PRODID:ics.py - http://git.io/lLljaA
BEGIN:VEVENT
DESCRIPTION:📍 Seminer | Dijital Baskı Teknolojilerinde Tasarım ve Üretim İş Akışı: Seramik Malzeme Üzerine İnceleme\r\nDr. Ceyda Sıkı\, seramik endüstrisinde dijital baskı teknolojilerinin üretim\, malzeme araştırmaları ve koleksiyon geliştirme süreçlerini nasıl dönüştürdüğünü aktaracak.
DTEND:20251224T235900Z
LOCATION:Kuzguncuk İskelesi
ORGANIZER;CN=Turkey Design Council:mailto:Turkey Design Council
DTSTART:20251224T000000Z
SUMMARY:Dijital Baskı Teknolojilerinde Tasarım ve Üretim İş Akışı
UID:94e4b02c-ff83-40f5-bd4a-2b7b84249eae@94e4.org
END:VEVENT
END:VCALENDAR