BEGIN:VCALENDAR
VERSION:2.0
PRODID:ics.py - http://git.io/lLljaA
BEGIN:VEVENT
DESCRIPTION:🏙 Şehir Konuşmaları | İstanbul’un Hafızası\r\nTürk Müziği Araştırmacısı ve Ses Sanatçısı İncila Bertuğ ile İstanbul’un çok katmanlı kültürünü\; müzik geleneği\, ritüelleri\, hafıza mekanları ve toplumsal mirası üzerinden yeniden okuyacağız.
DTEND:20251209T235900Z
LOCATION:Kuzguncuk İskelesi
ORGANIZER;CN=Turkey Design Council:mailto:Turkey Design Council
DTSTART:20251209T000000Z
SUMMARY:İstanbul’un Hafızası
UID:6161a28c-aa9c-458a-9b29-9b44cbe5511f@6161.org
END:VEVENT
END:VCALENDAR