BEGIN:VCALENDAR
VERSION:2.0
PRODID:ics.py - http://git.io/lLljaA
BEGIN:VEVENT
DESCRIPTION:📍 Konferans | Modada Sürdürülebilirlik Dendiğinde: Ne Anlıyoruz\, Ne Yapmalıyız? — Dilek Hanif\r\n\r\nSürdürülebilirlik\, yalnızca “daha az tüketmek” değil\; malzemenin ömrünü\, üretimin etiğini ve zanaatin bilgisini yeniden düşünmek anlamına geliyor.
DTEND:20251203T235900Z
LOCATION:Kuzguncuk İskelesi
ORGANIZER;CN=Turkey Design Council:mailto:Turkey Design Council
DTSTART:20251203T000000Z
SUMMARY:Modada Sürdürülebilirlik
UID:7f9baa8e-768c-4095-bde4-621689e6ade1@7f9b.org
END:VEVENT
END:VCALENDAR