BEGIN:VCALENDAR
VERSION:2.0
PRODID:ics.py - http://git.io/lLljaA
BEGIN:VEVENT
DESCRIPTION:Wood was handled in "Material-1" of our materail workshop. Subjects such as the properties and usage places of woods\, woods surface treatments and cutting shapes\, building details\, traditional and contemporary uses of woods were examined.
DTEND:20181222T235900Z
LOCATION:Kuzguncuk Mahallesi\, Şehir Hatları Kuzguncuk İskelesi \r\nKuzguncuk Çarşı Caddesi\, Üsküdar/İstanbul
ORGANIZER;CN=Turkey Design Council:mailto:Turkey Design Council
DTSTART:20181222T000000Z
SUMMARY:Madde - 1: Ahşap
UID:04009663-9259-4097-bf93-94115331d6f1@0400.org
END:VEVENT
END:VCALENDAR