BEGIN:VCALENDAR
VERSION:2.0
PRODID:ics.py - http://git.io/lLljaA
BEGIN:VEVENT
DESCRIPTION:We talked with Rafet Fatih Özgür who is THY Advertising Manager\, about the great stories\, adventures and strategies of big brands that touch people.
DTEND:20190725T235900Z
ORGANIZER;CN=Turkey Design Council:mailto:Turkey Design Council
DTSTART:20190725T000000Z
SUMMARY:Hepsi Hikaye
UID:be897c16-f515-4964-9ed1-3e0431815778@be89.org
END:VEVENT
END:VCALENDAR