BEGIN:VCALENDAR
VERSION:2.0
PRODID:ics.py - http://git.io/lLljaA
BEGIN:VEVENT
DESCRIPTION:Divan Road is the first stop of Urban Tours series\, which aims to explore Istanbul closely. Accompanied by our guide\, we visited the historical artifacts on Divan Road and obtained detailed information about the artifacts.
DTEND:20190803T235900Z
ORGANIZER;CN=Turkey Design Council:mailto:Turkey Design Council
DTSTART:20190803T000000Z
SUMMARY:Divan Yolu
UID:8f0f113c-3e0a-4a0d-bde1-daeffc63a8af@8f0f.org
END:VEVENT
END:VCALENDAR