BEGIN:VCALENDAR
VERSION:2.0
PRODID:ics.py - http://git.io/lLljaA
BEGIN:VEVENT
DESCRIPTION:Serdar Ekrem Şirin shared his experience in the triangle of life\, career and ideals in the free speeches series open to everyone.
DTEND:20190710T235900Z
ORGANIZER;CN=Turkey Design Council:mailto:Turkey Design Council
DTSTART:20190710T000000Z
SUMMARY:Hayaller ve Hayatlar
UID:4069cdbb-9e75-4e8f-a3d5-c578fb38649f@4069.org
END:VEVENT
END:VCALENDAR