BEGIN:VCALENDAR
VERSION:2.0
PRODID:ics.py - http://git.io/lLljaA
BEGIN:VEVENT
DESCRIPTION:Eğitim | Etkili Portfolyo Hazırlama • Tasarımcıların işlerini rafine ederek üstünden geçmesi ve düzenlemesi\, akademik ve profesyonel hayata geçişte olduğu kadar kendi farkındalıkları için de önemli bir yere sahip. Değişen ölçeklerdeki farklı tasarımlara ait sayısız görsel ve metni\; akıcı\, etkili ve kişisel bir kurgu etrafında tekrar tekrar örmek\, bağlamak zaman ister. Tasarımcıların portfolyo hazırlarken kullanabileceği bazı esnek kalıpların anlatılarak bu kalıpların nasıl dışına çıkılabileceğinin gösterileceği\, Mimar Ahmet Korfalı yürütücülüğünde gerçekleştirilecek Etkili Portfolyo Hazırlama eğitimi\, 29 Nisan Cumartesi günü 10.00’da İskele’de!\r\n\r\n–\r\n\r\nAhmet Korfali 2005 yılında Mimar Sinan Güzel Sanatlar Üniversitesi Mimarlık Bölümünden mezun olduktan sonra\, TU Delft’de Mimari Tasarım yüksek lisans eğitimini tamamladı. Eğitimi sırasında dijital resim ve modelleme işlerine merak saldı. Eğitiminin tamamlamasının ardından yarı zamanlı olarak ofislerde çalışırken\, üniversitede görselleştirme üzerine eğitim aldı.
DTEND:20230429T235900Z
LOCATION:Kuzguncuk İskelesi
ORGANIZER;CN=Turkey Design Council:mailto:Turkey Design Council
DTSTART:20230429T100000Z
SUMMARY:Etkili Portfolyo Hazırlama
UID:cbe85513-afe2-4695-8f3d-cde8852d1872@cbe8.org
END:VEVENT
END:VCALENDAR