BEGIN:VCALENDAR
VERSION:2.0
PRODID:ics.py - http://git.io/lLljaA
BEGIN:VEVENT
DESCRIPTION:The Model Game developed by Mimarlar Ne Der? team was played on the game night.
DTEND:20190705T235900Z
ORGANIZER;CN=Turkey Design Council:mailto:Turkey Design Council
DTSTART:20190705T000000Z
SUMMARY:Oyun Gecesi
UID:f7a9b9a1-e899-4378-b04d-b17ba9e7cf12@f7a9.org
END:VEVENT
END:VCALENDAR