BEGIN:VCALENDAR
VERSION:2.0
PRODID:ics.py - http://git.io/lLljaA
BEGIN:VEVENT
DESCRIPTION:Eğitim | Girişimciler için Hibe Destekleri • KOSGEB İstanbul Boğaziçi Müdürü Zeynep Kasımoğlu\, girişimci projelerinin hibe yönetimi ve desteklenmesi konularını anlatacağı eğitimle 24 Ocak Salı günü saat 19.00’da İskele’de! \r\n\r\nKOSGEB\, Türkiye’deki küçük ve orta ölçekli işletmelerin ekonomideki rolünü ve etkinliğini artırmak ve sanayide entegrasyonu ekonomik gelişmelere uygun biçimde geliştirmek amacıyla kurulmuş bir kamu kurumudur. İmalat\, üretim\, hizmet ve ticaret sektörleri destek kapsamındadır. \r\n\r\nÜcretsiz olarak gerçekleşecek atölyeye başvuru yapmak için 250 kelimeyi aşmayan niyet mektubunuzu\, etkinlik@turkiyetasarimvakfi.org adresine gönderebilirsiniz. \r\n\r\nKontenjan 50 kişi ile sınırlıdır. \r\n\r\nSon başvuru tarihi: 19 Ocak Perşembe - 17.00
DTEND:20230124T235900Z
LOCATION:Kuzguncuk iskelesi
ORGANIZER;CN=Turkey Design Council:mailto:Turkey Design Council
DTSTART:20230124T190000Z
SUMMARY:Girişimciler için Hibe Destekleri
UID:b3cb7c45-4565-485a-84fa-46941b821e1f@b3cb.org
END:VEVENT
END:VCALENDAR