BEGIN:VCALENDAR
VERSION:2.0
PRODID:ics.py - http://git.io/lLljaA
BEGIN:VEVENT
DESCRIPTION:Pop - Up | Sneaker Tasarım Süreçleri • Balmain Sneaker Departmanı Baş Tasarımcısı Safa Şahin’in\, geçmişten geleceğe sneaker tasarım süreçlerini ve kendi tasarım deneyimlerini paylaşacağı konuşma 16 Eylül Cuma günü saat 19.00’da İskele’de!
DTEND:20220916T200000Z
LOCATION:Kuzguncuk İskelesi
ORGANIZER;CN=Turkey Design Council:mailto:Turkey Design Council
DTSTART:20220916T190000Z
SUMMARY:Sneaker Tasarım Süreçleri
UID:3f990024-b53b-4739-85a6-4100efb4b743@3f99.org
END:VEVENT
END:VCALENDAR