BEGIN:VCALENDAR
VERSION:2.0
PRODID:ics.py - http://git.io/lLljaA
BEGIN:VEVENT
DESCRIPTION:In the second and final lesson of Material-1: Metal\, we had the opportunity to see the applications on site at the workshop of our workshop manager Osman Dede.
DTEND:20190330T235900Z
ORGANIZER;CN=Turkey Design Council:mailto:Turkey Design Council
DTSTART:20190330T000000Z
SUMMARY:Madde - 1: Metal
UID:4b9236f5-1578-4de1-a014-f448d69b16ff@4b92.org
END:VEVENT
END:VCALENDAR