BEGIN:VCALENDAR
VERSION:2.0
PRODID:ics.py - http://git.io/lLljaA
BEGIN:VEVENT
DESCRIPTION:Metal was the subject of March in Material-1. During the first week of the two-week workshop\, topics such as metal types\, properties and production\, diversification and classification of metals\, usage areas of metals were examined with Osman Dede.
DTEND:20190323T235900Z
ORGANIZER;CN=Turkey Design Council:mailto:Turkey Design Council
DTSTART:20190323T000000Z
SUMMARY:Madde - 1: Metal
UID:095d1624-8f85-46eb-b9fe-15274a096957@095d.org
END:VEVENT
END:VCALENDAR