BEGIN:VCALENDAR
VERSION:2.0
PRODID:ics.py - http://git.io/lLljaA
BEGIN:VEVENT
DESCRIPTION:Madde - 1: Kağıt | Malzeme atölyemiz\, Madde - 1: Kağıt’ın ilk bölümü 15 Ocak’da İskele’de gerçekleşti. İkinci ve son bölümü Yüksel Yücel’in yürütücülüğünde\, Bilnet Matbaacılık ve Yayıncılık ev sahipliğinde 29 Ocak Cumartesi günü saat 11.00’da gerçekleşecek. Kağıdın türlerini\, özelliklerini ve üretimini görme imkanı bulacağız.\r\n\r\nEtkinliğimizde HES kodu kontrolü ve maske kullanımı zorunludur
DTEND:20220115T235900Z
ORGANIZER;CN=Turkey Design Council:mailto:Turkey Design Council
DTSTART:20220115T140000Z
SUMMARY:Madde -1: Kağıt
UID:14625016-6603-4613-82e7-c09c877792b0@1462.org
END:VEVENT
END:VCALENDAR