BEGIN:VCALENDAR
VERSION:2.0
PRODID:ics.py - http://git.io/lLljaA
BEGIN:VEVENT
DESCRIPTION:In the second and final lesson of Material-1: Natural Stone\, we had the opportunity to see natural stone samples and applications on the spot together with our workshop manager Şaban Topçu.
DTEND:20190309T235900Z
ORGANIZER;CN=Turkey Design Council:mailto:Turkey Design Council
DTSTART:20190309T000000Z
SUMMARY:Madde - 1 : Doğal Taş
UID:da00ec40-998d-4d16-96b0-95937d75e4c4@da00.org
END:VEVENT
END:VCALENDAR