BEGIN:VCALENDAR
VERSION:2.0
PRODID:ics.py - http://git.io/lLljaA
BEGIN:VEVENT
DESCRIPTION:Open Studio is a weekly event where the design students and young professionals come together and exchange ideas. In Open Studio\, where design student work on their projects in a productive sharing environment\, a specialist designer accompanies the student every week.
DTEND:20190220T200000Z
LOCATION:Kuzguncuk Mahallesi\, Şehir Hatları Kuzguncuk İskelesi \r\nKuzguncuk Çarşı Caddesi\, Üsküdar/İstanbul
ORGANIZER;CN=Turkey Design Council:mailto:Turkey Design Council
DTSTART:20190220T160000Z
SUMMARY:Açık Stüdyo 04
UID:1affe3f9-4097-4d65-b54b-d950a973af2c@1aff.org
END:VEVENT
END:VCALENDAR